BEGIN:VCALENDAR
VERSION:2.0
PRODID:-//Deutsche-Stiftung-fuer-Engagement-und-Ehrenamt//Ehrentag//DE
CALSCALE:GREGORIAN
BEGIN:VEVENT
UID:1711@www.ehrentag.de
DTSTAMP:20260423T150202Z
DTSTART:20260217T160000Z
DTEND:20260217T170000Z
SUMMARY:#DSEEerklärt Fördermittel: Find ich gut &#8211\; Orientierung in der Förderlandschaft
DESCRIPTION:Wenn ihr erfolgreich Projektanträge stellen möchtet\, ist ein gutes Verständnis der Förderlandschaft in Deutschland eine wichtige Grundlage. In diesem Online-Seminar erhaltet ihr einen praxisnahen Überblick über öffentliche Förderungen\, Stiftungen\, Lotterien und Preise – und erfahrt\, wie ihr gezielt passende Förderprogramme recherchiert. Zudem lernt ihr\, eine eigene Fördersammlung als Grundlage für langfristige Finanzierung und wirksame Projektarbeit &hellip\;
LOCATION:Digital
STATUS:CONFIRMED
SEQUENCE:0
END:VEVENT
END:VCALENDAR