BEGIN:VCALENDAR
VERSION:2.0
PRODID:-//Deutsche-Stiftung-fuer-Engagement-und-Ehrenamt//Ehrentag//DE
CALSCALE:GREGORIAN
BEGIN:VEVENT
UID:2829@www.ehrentag.de
DTSTAMP:20260419T112053Z
DTSTART:20260225T160000Z
DTEND:20260225T170000Z
SUMMARY:#DSEEerklärt: Das passt – Die richtige Ehrentags-Aktion für euren Verein
DESCRIPTION:Ihr habt sicher viele Ideen\, den Ehrentag mit einer Mitmach-Aktion zu gestalten. Doch die richtige Aktion zu finden – eine\, die zu eurem Verein passt\, gut umgesetzt werden kann und für alle in Erinnerung bleibt – ist gar nicht so einfach. In diesem Online-Seminar bekommt ihr praktische Tipps\, wie ihr passende Aktionen auswählt und gleichzeitig &hellip\;
LOCATION:Digital
STATUS:CONFIRMED
SEQUENCE:0
END:VEVENT
END:VCALENDAR