BEGIN:VCALENDAR
VERSION:2.0
PRODID:-//Deutsche-Stiftung-fuer-Engagement-und-Ehrenamt//Ehrentag//DE
CALSCALE:GREGORIAN
BEGIN:VEVENT
UID:2831@www.ehrentag.de
DTSTAMP:20260423T122333Z
DTSTART:20260310T160000Z
DTEND:20260310T170000Z
SUMMARY:#DSEEerklärt: Einfacher geht’s nicht – Fundraising-Aktionen mit schnellem Erfolg
DESCRIPTION:Fundraising muss nicht immer auf große Summen ausgelegt sein. Gerade kleine\, lokale Aktionen lassen sich schnell umsetzen und bringen direkte Erfolge. In diesem Online-Seminar zeigen wir euch\, wie ihr für euren Verein eine Minikampagne plant\, effektiv durchführt und zum Erfolg führt – nicht nur für den Ehrentag\, sondern auch\, wie ihr zuverlässige Partner für zukünftige &hellip\;
LOCATION:Digital
STATUS:CONFIRMED
SEQUENCE:0
END:VEVENT
END:VCALENDAR