BEGIN:VCALENDAR
VERSION:2.0
PRODID:-//Deutsche-Stiftung-fuer-Engagement-und-Ehrenamt//Ehrentag//DE
CALSCALE:GREGORIAN
BEGIN:VEVENT
UID:3017@www.ehrentag.de
DTSTAMP:20260423T122214Z
DTSTART:20260325T160000Z
DTEND:20260325T171500Z
SUMMARY:#DSEEerklärt Ehrentag Spezial: Haftung\, Versicherung und Recht – verständlich erklärt von DSEE &amp\; VBG
DESCRIPTION:Haftung\, Versicherungsschutz\, Gemeinnützigkeit\, Spendenrecht – gerade rund um den Ehrentag tauchen viele konkrete Fragen auf. Unsicherheiten bremsen gute Ideen aus oder lassen Aktionen ganz ausfallen.Im DSEE Ehrentag-Spezial bringen die DSEE und die VBG gemeinsam Licht ins Dunkel: In einem kompakten Live-Webinar werden typische Fragen verständlich\, praxisnah und anhand konkreter Beispiele beantwortet – niedrigschwellig\, klar und &hellip\;
LOCATION:Digital
STATUS:CONFIRMED
SEQUENCE:0
END:VEVENT
END:VCALENDAR