BEGIN:VCALENDAR
VERSION:2.0
PRODID:-//Deutsche-Stiftung-fuer-Engagement-und-Ehrenamt//Ehrentag//DE
CALSCALE:GREGORIAN
BEGIN:VEVENT
UID:3482@www.ehrentag.de
DTSTAMP:20260423T121647Z
DTSTART:20260512T150000Z
DTEND:20260512T160000Z
SUMMARY:Community Call #9
DESCRIPTION:Wir laden euch herzlich zum Community Call am 12. Mai von 17 bis 18 Uhr ein. Kurz vor Beginn des Aktionszeitraums rund um den Ehrentag wollen wir euch noch ein Care-Paket mit auf den Weg geben – auf dass alle Mitmach-Aktionen wachsen und gedeihen.&nbsp\; Und natürlich gibt es auch wieder Raum für Austausch und Vernetzung. &hellip\;
LOCATION:Virtuell\, Zoom
STATUS:CONFIRMED
SEQUENCE:0
END:VEVENT
END:VCALENDAR